BEGIN:VCALENDAR
VERSION:2.0
PRODID:-//85.215.231.133//NONSGML kigkonsult.se iCalcreator 2.20//
CALSCALE:GREGORIAN
METHOD:PUBLISH
X-WR-TIMEZONE:Europe/Berlin
BEGIN:VEVENT
UID:event397@SV Fortuna ´50 Neubrandenburg
DTSTAMP:20260420T083210Z
CATEGORIES:Punktspiele
DESCRIPTION:Heimspiel weibliche A-Jugend\nKategorie: Punktspiele\nICS-Link:
  https://svfortuna50.de/index.php?option=com_jem&view=event&id=397:heimspi
 el-weibliche-a-jugend\n
DTSTART;TZID=Europe/Berlin:20251026T160000
DTEND;TZID=Europe/Berlin:20251026T173000
LOCATION:Webasto Arena\,Binsenwerderstr. 2\,17033 Neubrandenburg
SUMMARY:Heimspiel weibliche A-Jugend
URL:https://svfortuna50.de/index.php?option=com_jem&view=event&id=397:heims
 piel-weibliche-a-jugend
END:VEVENT
END:VCALENDAR
