BEGIN:VCALENDAR
VERSION:2.0
PRODID:-//85.215.231.133//NONSGML kigkonsult.se iCalcreator 2.20//
CALSCALE:GREGORIAN
METHOD:PUBLISH
X-WR-TIMEZONE:Europe/Berlin
BEGIN:VEVENT
UID:event198@SV Fortuna ´50 Neubrandenburg
DTSTAMP:20260419T223120Z
CATEGORIES:Punktspiele
DESCRIPTION:Doppelheimspiel 1. Frauen und 1. Männer präsentiert von der Spa
 rkasse Neubrandenburg-Demmin\nKategorie: Punktspiele\nICS-Link: https://sv
 fortuna50.de/index.php?option=com_jem&view=event&id=198:doppelheimspiel-1-
 frauen-und-1-maenner\n
DTSTART;TZID=Europe/Berlin:20210925T163000
DTEND;TZID=Europe/Berlin:20210925T163000
LOCATION:Webasto Arena\,Binsenwerderstr. 2\,17033 Neubrandenburg
SUMMARY:Doppelheimspiel 1. Frauen und 1. Männer präsentiert von der Sparkas
 se Neubrandenburg-Demmin
URL:https://svfortuna50.de/index.php?option=com_jem&view=event&id=198:doppe
 lheimspiel-1-frauen-und-1-maenner
END:VEVENT
END:VCALENDAR
